BEGIN:VCALENDAR
VERSION:2.0
PRODID:-///NONSGML v1.0//EN
CALSCALE:GREGORIAN
X-WR-CALNAME:Posttheater
METHOD:PUBLISH
BEGIN:VEVENT
LOCATION: Posttheater - Grote Zaal
ORGANIZER:Posttheater Arnhem
DESCRIPTION:Meer info: https://www.posttheater.nl/
DTSTART:20270108T203000
DTEND:20270108T220000
SUMMARY: Van Vleuten en Van Muiswinkel - Alles Onder Controle
UID:69e79d6b16cd4
END:VEVENT
END:VCALENDAR