BEGIN:VCALENDAR
VERSION:2.0
PRODID:-///NONSGML v1.0//EN
CALSCALE:GREGORIAN
X-WR-CALNAME:Posttheater
METHOD:PUBLISH
BEGIN:VEVENT
LOCATION: Posttheater - Kleine Zaal
ORGANIZER:Posttheater Arnhem
DESCRIPTION:Meer info: https://www.posttheater.nl/
DTSTART:20260513T200000
DTEND:20260513T213000
SUMMARY: Arjan Kleton - LOMP
UID:69e4fdcc5e63b
END:VEVENT
END:VCALENDAR