BEGIN:VCALENDAR
VERSION:2.0
PRODID:-///NONSGML v1.0//EN
CALSCALE:GREGORIAN
X-WR-CALNAME:Posttheater
METHOD:PUBLISH
BEGIN:VEVENT
LOCATION: Posttheater - Kleine Zaal
ORGANIZER:Posttheater Arnhem
DESCRIPTION:Meer info: https://www.posttheater.nl/
DTSTART:20260110T200000
DTEND:20260110T220000
SUMMARY: Steyn de Leeuwe  - Moonlight Motel
UID:69e705fc8668f
END:VEVENT
END:VCALENDAR